BEGIN:VCALENDAR
VERSION:2.0
PRODID:-//ChamberMaster//Event Calendar 2.0//EN
METHOD:PUBLISH
X-PUBLISHED-TTL:P3D
REFRESH-INTERVAL:P3D
CALSCALE:GREGORIAN
BEGIN:VEVENT
DTSTART:20250402T223000Z
DTEND:20250402T233000Z
X-MICROSOFT-CDO-ALLDAYEVENT:FALSE
SUMMARY:Dementia Friendly Fountain Hills Presents: How to interpret your brain's owner's manual with Dr. Brian Browne
DESCRIPTION:Join Dr. Brian Browne at the Fountain Hill Community Center in a conversation about understanding the capabilities of the brain and how to support and maintain its power to allow us to age successfully.
X-ALT-DESC;FMTTYPE=text/html:<span style="color:rgb(33\, 37\, 41)\; font-family:montserrat\,sans-serif\; font-size:19px">Join Dr. Brian Browne at the Fountain Hill Community Center in a conversation about understanding the capabilities of the brain and how to support and maintain its power to allow us to age successfully.</span>
LOCATION:Location: Fountain Hills Community Center\, 13001 N LaMontana Dr.\, Fountain Hills AZ\, 85268
UID:e.2426.47594
SEQUENCE:3
DTSTAMP:20260419T151001Z
URL:https://cm.fhchamber.com/events/details/dementia-friendly-fountain-hills-presents-how-to-interpret-your-brain-s-owner-s-manual-with-dr-brian-browne-47594
END:VEVENT

END:VCALENDAR
