BEGIN:VCALENDAR
VERSION:2.0
PRODID:-//ChamberMaster//Event Calendar 2.0//EN
METHOD:PUBLISH
X-PUBLISHED-TTL:P3D
REFRESH-INTERVAL:P3D
CALSCALE:GREGORIAN
BEGIN:VEVENT
DTSTART:20170316T143000Z
DTEND:20170316T153000Z
X-MICROSOFT-CDO-ALLDAYEVENT:FALSE
SUMMARY:FH Connect Breakfast 03/16/2017
DESCRIPTION:Join us for an exclusive update on the Park Place Project!\n\n\n\nWe will be hearing from the site's developer\, Bart Shea\, regarding the Park Place Project's status\, goals\, commercial/real estate objective and much more.\n\n\n\nA delicous breakfast will be included\, as well as a time for networking\, prizes\, and give aways. We hope to see you there!
X-ALT-DESC;FMTTYPE=text/html:Join us for an exclusive update on the Park Place Project!<br />\n<br />\nWe will be hearing from the site&#39\;s developer\, Bart Shea\, regarding the Park Place Project&#39\;s status\, goals\, commercial/real estate objective and much more.<br />\n<br />\nA delicous breakfast will be included\, as well as a time for networking\, prizes\, and give aways. We hope to see you there!
LOCATION:Eagle Mountain Golf Club
UID:e.2426.4728
SEQUENCE:3
DTSTAMP:20260424T103311Z
URL:https://cm.fhchamber.com/events/details/fh-connect-breakfast-03-16-2017-4728
END:VEVENT

END:VCALENDAR
