BEGIN:VCALENDAR
VERSION:2.0
PRODID:-//ChamberMaster//Event Calendar 2.0//EN
METHOD:PUBLISH
X-PUBLISHED-TTL:P3D
REFRESH-INTERVAL:P3D
CALSCALE:GREGORIAN
BEGIN:VEVENT
DTSTART:20171019T143000Z
DTEND:20171019T153000Z
X-MICROSOFT-CDO-ALLDAYEVENT:FALSE
SUMMARY:FH Connect Breakfast 10/19/2017
DESCRIPTION:Join us at October's FH Connect Networking Breakfast!\n\n \n\nThis month's program will feature a panel of Chamber members who will bring you tips and tricks about marketing your business by utilizing special events\, holidays\, or current events in the community.\n\n \n\nDate: October 19th\n\nTime: 7:30 AM - 8:30 AM\n\nLocation: Eagle Mountain Golf Club\n\n\n\nSpeakers:\n\nAndrew Day\n\nKristen Skivington\n\nMerita Kraya\n\nRosaria Cain\n\n \n\nThis will be a great topic to focus on with the upcoming holiday season! In addition to the program\, there will be a delicious breakfast\, a time to meet new people\, plus a 50/50 raffle and prizes!\n\n \n\nRegister online today to save your space!
X-ALT-DESC;FMTTYPE=text/html:<div style="color: rgb(54\, 73\, 95)\; font-family: Calibri\, Helvetica\, Arial\, sans-serif\; font-size: 14px\; white-space: pre-wrap\; text-align: center\;"><span style="font-size: 16px\;">Join us at October&#39\;s FH Connect Networking Breakfast!</span></div>\n\n<div style="color: rgb(54\, 73\, 95)\; font-family: Calibri\, Helvetica\, Arial\, sans-serif\; font-size: 14px\; white-space: pre-wrap\; text-align: center\;">&nbsp\;</div>\n\n<div style="color: rgb(54\, 73\, 95)\; font-family: Calibri\, Helvetica\, Arial\, sans-serif\; font-size: 14px\; white-space: pre-wrap\; text-align: center\;"><span style="font-size: 16px\;">This month&#39\;s program will feature a panel of Chamber members who will bring you tips and tricks about marketing your business by utilizing special events\, holidays\, or current events in the community.</span></div>\n\n<div style="color: rgb(54\, 73\, 95)\; font-family: Calibri\, Helvetica\, Arial\, sans-serif\; font-size: 14px\; white-space: pre-wrap\; text-align: center\;">&nbsp\;</div>\n\n<div style="color: rgb(54\, 73\, 95)\; font-family: Calibri\, Helvetica\, Arial\, sans-serif\; font-size: 14px\; white-space: pre-wrap\; text-align: center\;"><span style="font-size: 16px\; font-weight: bold\;">Date: October 19th</span></div>\n\n<div style="color: rgb(54\, 73\, 95)\; font-family: Calibri\, Helvetica\, Arial\, sans-serif\; font-size: 14px\; white-space: pre-wrap\; text-align: center\;"><span style="font-size: 16px\; font-weight: bold\;">Time: 7:30 AM - 8:30 AM</span></div>\n\n<div style="color: rgb(54\, 73\, 95)\; font-family: Calibri\, Helvetica\, Arial\, sans-serif\; font-size: 14px\; white-space: pre-wrap\; text-align: center\;"><span style="font-size: 16px\; font-weight: bold\;">Location: Eagle Mountain Golf Club<br />\n<br />\nSpeakers:<br />\nAndrew Day<br />\nKristen Skivington<br />\nMerita Kraya<br />\nRosaria Cain</span></div>\n\n<div style="color: rgb(54\, 73\, 95)\; font-family: Calibri\, Helvetica\, Arial\, sans-serif\; font-size: 14px\; white-space: pre-wrap\; text-align: center\;">&nbsp\;</div>\n\n<div style="color: rgb(54\, 73\, 95)\; font-family: Calibri\, Helvetica\, Arial\, sans-serif\; font-size: 14px\; white-space: pre-wrap\; text-align: center\;"><span style="font-size: 16px\;">This will be a great topic to focus on with the upcoming holiday season! In addition to the program\, there will be a delicious breakfast\, a time to meet new people\, plus a 50/50 raffle and prizes!</span></div>\n\n<div style="color: rgb(54\, 73\, 95)\; font-family: Calibri\, Helvetica\, Arial\, sans-serif\; font-size: 14px\; white-space: pre-wrap\; text-align: center\;">&nbsp\;</div>\n\n<div style="color: rgb(54\, 73\, 95)\; font-family: Calibri\, Helvetica\, Arial\, sans-serif\; font-size: 14px\; white-space: pre-wrap\; text-align: center\;"><span style="font-size: 16px\;">Register online today to save your space!</span></div>\n
LOCATION:Golf Club at Eagle Mountain 14915 E. Eagle Mountain Parkway
UID:e.2426.5528
SEQUENCE:3
DTSTAMP:20260423T042926Z
URL:https://cm.fhchamber.com/events/details/fh-connect-breakfast-10-19-2017-5528
END:VEVENT

END:VCALENDAR
