BEGIN:VCALENDAR
VERSION:2.0
PRODID:-//ChamberMaster//Event Calendar 2.0//EN
METHOD:PUBLISH
X-PUBLISHED-TTL:P3D
REFRESH-INTERVAL:P3D
CALSCALE:GREGORIAN
BEGIN:VEVENT
DTSTART:20171116T143000Z
DTEND:20171116T153000Z
X-MICROSOFT-CDO-ALLDAYEVENT:FALSE
SUMMARY:FH Connect Breakfast 11/16/2017
DESCRIPTION:Join the Fountain Hills Chamber of Commerce and it's members for a very informative breakfast meeting from 7:30 am - 8:30 am.\n\n\n\nBill Hinz from the Copperwynd will present the March 2017\, Town Council approved\, expansion of the resort to include 300 guest rooms and a 10\,000 square foot conference center.\n\n\n\nA full breakfast will be served.
X-ALT-DESC;FMTTYPE=text/html:Join the Fountain Hills Chamber of Commerce and it&#39\;s members for a very informative breakfast meeting from 7:30 am - 8:30 am.<br />\n<br />\nBill Hinz from the Copperwynd will present the March 2017\, Town Council approved\, expansion of the resort to include 300 guest rooms and a 10\,000 square foot conference center.<br />\n<br />\nA full breakfast will be served.
LOCATION:
UID:e.2426.5571
SEQUENCE:3
DTSTAMP:20260424T204920Z
URL:https://cm.fhchamber.com/events/details/fh-connect-breakfast-11-16-2017-5571
END:VEVENT

END:VCALENDAR
