BEGIN:VCALENDAR
VERSION:2.0
PRODID:-//ChamberMaster//Event Calendar 2.0//EN
METHOD:PUBLISH
X-PUBLISHED-TTL:P3D
REFRESH-INTERVAL:P3D
CALSCALE:GREGORIAN
BEGIN:VEVENT
DTSTART:20170224T170000Z
DTEND:20170227T000000Z
X-MICROSOFT-CDO-ALLDAYEVENT:FALSE
SUMMARY:Fountain Hills Great Fair 02/24/17
DESCRIPTION:Great Fair is February 24\, 25 and 26th from 10 am -5 pm all three days. We have 500 artists who show their wares ranging from small items up to large sculptures\, etc.  There is something for everyone.  Many different types of food fare are also available in our food court and on Saguaro in front of the fountain.  We also have musical entertainment that plays throughout the day on all three days.\n\n\n\nAdmission and parking are free.
X-ALT-DESC;FMTTYPE=text/html:Great Fair is February 24\, 25 and 26th from 10 am -5 pm all three days.&nbsp\;We have 500 artists who show their wares ranging from small items up to large sculptures\, etc.&nbsp\; There is something for everyone.&nbsp\; Many different types of food fare&nbsp\;are also available in our food court and on Saguaro in front of the fountain.&nbsp\; We also have musical entertainment that plays throughout the day on all three days.<br />\n<br />\nAdmission and parking are free.
LOCATION:Avenue of the Fountain/Saguaro Blvd.
UID:e.2426.500
SEQUENCE:3
DTSTAMP:20260425T232727Z
URL:https://cm.fhchamber.com/events/details/fountain-hills-great-fair-02-24-17-500
END:VEVENT

END:VCALENDAR
