BEGIN:VCALENDAR
VERSION:2.0
PRODID:-//ChamberMaster//Event Calendar 2.0//EN
METHOD:PUBLISH
X-PUBLISHED-TTL:P3D
REFRESH-INTERVAL:P3D
CALSCALE:GREGORIAN
BEGIN:VEVENT
DTSTART:20330201T230000Z
DTEND:20330202T000000Z
X-MICROSOFT-CDO-ALLDAYEVENT:FALSE
SUMMARY:Grief Support Group
DESCRIPTION:The loss of a loved one is heartbreaking and the survivor's are left to move on without them. The journey through grief is hard and lonely. Learn how not to get stuck in your grief.  Join us the second Tuesday of the month at Messinger Mortuary from 4 to 5 p.m.
X-ALT-DESC;FMTTYPE=text/html:The loss of a loved one is heartbreaking and the survivor's are left to move on without them. The journey through grief is hard and lonely. Learn how not to get stuck in your grief.&nbsp\; Join us the second Tuesday of the month at Messinger Mortuary from 4 to 5 p.m.
LOCATION:Messinger Mortuary
UID:e.2426.41948
SEQUENCE:3
DTSTAMP:20260426T003054Z
URL:https://cm.fhchamber.com/events/details/grief-support-group-02-01-2033-41948
END:VEVENT

END:VCALENDAR
