BEGIN:VCALENDAR
VERSION:2.0
PRODID:-//ChamberMaster//Event Calendar 2.0//EN
METHOD:PUBLISH
X-PUBLISHED-TTL:P3D
REFRESH-INTERVAL:P3D
CALSCALE:GREGORIAN
BEGIN:VEVENT
DTSTART:20271025T170000Z
DTEND:20271025T220000Z
X-MICROSOFT-CDO-ALLDAYEVENT:FALSE
SUMMARY:Paws For Community at Pure Pawsitivity™?
DESCRIPTION:Paws for Community Brings Wellness\, Local Vendors & Connection to Fountain Hills\n\nFountain Hills is invited to come together for Paws for Community\, a vibrant monthly event hosted by Pure Pawsitivity\, happening April 25 and May 30 from 10 AM to 3 PM. This unique outdoor gathering brings together local wellness vendors\, artists\, and small businesses for a day centered around connection\, community\, and purpose.\n\nMore than just a market\, Paws for Community highlights the powerful bond between pets and people\, promoting healthier\, happier lifestyles for both. Guests can explore a thoughtfully curated selection of vendors offering natural products\, holistic services\, artisan goods\, and pet-focused offerings ensuring a fresh and diverse experience at every event.\n\nIn partnership with local nonprofit Bishop's Mission\, the event also supports initiatives that serve both ends of the leash. Bishop's Mission provides resources for service animals\, supports first responders and K9 units\, and promotes peer-based mental health awareness bridging the connection between animal companionship and human wellness.\n\nA featured highlight is the Lucky Paw Draw\, where guests can win prizes donated by local businesses. Drawings will take place hourly between 10 AM and 2 PM\, with a final 50/50 cash pot drawing at 3 PM . Tickets are available starting now\, and participants do not need to be present to win\, though winners are asked to pick up prizes within one week (must be present to win cash). To purchase tickets\, participate\, or contribute as a sponsor or vendor\, contact Edan at 480-226-6954 or stop by instore.\n\nWith free admission and a welcoming\, family-friendly atmosphere\, Paws for Community is quickly becoming a staple in Fountain Hills\, bringing neighbors together while supporting local businesses and meaningful causes.\n\nFor more information\, follow Pure Pawsitivity on social media or visit the storefront\, open Tuesday through Friday from 10 AM to 5 PM and Saturdays from 10 AM to 3 PM.
X-ALT-DESC;FMTTYPE=text/html:<p><strong>Paws for Community Brings Wellness\, Local Vendors &amp\; Connection to Fountain Hills</strong></p>\n\n<p>Fountain Hills is invited to come together for <strong>Paws for Community</strong>\, a vibrant monthly event hosted by Pure Pawsitivity\, happening <strong>April 25 and May 30 from 10 AM to 3 PM</strong>. This unique outdoor gathering brings together local wellness vendors\, artists\, and small businesses for a day centered around connection\, community\, and purpose.</p>\n\n<p>More than just a market\, Paws for Community highlights the powerful bond between pets and people\, promoting healthier\, happier lifestyles for both. Guests can explore a thoughtfully curated selection of vendors offering natural products\, holistic services\, artisan goods\, and pet-focused offerings&mdash\;ensuring a fresh and diverse experience at every event.</p>\n\n<p>In partnership with local nonprofit <strong>Bishop&rsquo\;s Mission</strong>\, the event also supports initiatives that serve both ends of the leash. Bishop&rsquo\;s Mission provides resources for service animals\, supports first responders and K9 units\, and promotes peer-based mental health awareness&mdash\;bridging the connection between animal companionship and human wellness.</p>\n\n<p>A featured highlight is the <strong>Lucky Paw Draw</strong>\, where guests can win prizes donated by local businesses. Drawings will take place hourly between <strong>10 AM and 2 PM</strong>\, with a final <strong>50/50 cash pot drawing at 3 PM </strong>. Tickets are available starting now\, and participants do not need to be present to win\, though winners are asked to pick up prizes within one week (must be present to win cash). To purchase tickets\, participate\, or contribute as a sponsor or vendor\, contact Edan at <strong>480-226-6954 or stop by instore.</strong></p>\n\n<p>With free admission and a welcoming\, family-friendly atmosphere\, Paws for Community is quickly becoming a staple in Fountain Hills\, bringing neighbors together while supporting local businesses and meaningful causes.</p>\n\n<p>For more information\, follow Pure Pawsitivity on social media or visit the storefront\, open Tuesday through Friday from 10 AM to 5 PM and Saturdays from 10 AM to 3 PM.</p>\n
LOCATION:Pure Pawsitivity ? 16748 E. Parkview Ave D4 Fountain Hills\, AZ 85268
UID:e.2426.54905
SEQUENCE:3
DTSTAMP:20260424T113903Z
URL:https://cm.fhchamber.com/events/details/paws-for-community-at-pure-pawsitivity-10-25-2027-54905
END:VEVENT

END:VCALENDAR
