BEGIN:VCALENDAR
VERSION:2.0
PRODID:-//ChamberMaster//Event Calendar 2.0//EN
METHOD:PUBLISH
X-PUBLISHED-TTL:P3D
REFRESH-INTERVAL:P3D
CALSCALE:GREGORIAN
BEGIN:VEVENT
DTSTART:20240421T010000Z
DTEND:20240421T014500Z
X-MICROSOFT-CDO-ALLDAYEVENT:FALSE
SUMMARY:Yellow Bird Productions at Talking Stick Resort
DESCRIPTION:Celebrate Native American culture in the Fire Garden (adjacent to the Pool) at Talking Stick Resort every Friday and Saturday evening through dancing\, stories and music with Yellow Bird Productions.\n\nYellow Bird Productions features members of many tribes including members of the Salt River Pima Maricopa Indian Community. For the past 30 years\, Yellow Bird has curated a unique repertoire of songs\, dances\, stories and dialogue that entertain and educate audiences of all ages.\n\n?Yellow Bird is a professional family dance company based in Phoenix\, Arizona. The group boosts many national dance champions and have been feature performers for many prestigious audiences and institutions.
X-ALT-DESC;FMTTYPE=text/html:<p>Celebrate Native American culture in the Fire Garden (adjacent to the Pool) at Talking Stick Resort every Friday and Saturday evening through dancing\, stories and music with Yellow Bird Productions.</p>\n\n<p>Yellow Bird Productions features members of many tribes including members of the Salt River Pima Maricopa Indian Community. For the past 30 years\, Yellow Bird has curated a unique repertoire of songs\, dances\, stories and dialogue that entertain and educate audiences of all ages.</p>\n\n<p>?Yellow Bird is a professional family dance company based in Phoenix\, Arizona. The group&nbsp\;boosts many national dance champions and have been feature performers for many prestigious audiences and institutions.</p>\n
LOCATION:Salt River's Talking Stick Entertainment District Talking Stick Resort (in the Fire Garden - adjacent to the pool) 9800 E Talking Stick Way
UID:e.2426.42826
SEQUENCE:3
DTSTAMP:20260424T120226Z
URL:https://cm.fhchamber.com/events/details/yellow-bird-productions-at-talking-stick-resort-04-20-2024-42826
END:VEVENT

END:VCALENDAR
